BEGIN:VCALENDAR
VERSION:2.0
PRODID:-//It Takes a Village Design - ECPv6.15.20//NONSGML v1.0//EN
CALSCALE:GREGORIAN
METHOD:PUBLISH
X-ORIGINAL-URL:https://ittakesavillagedesign.com
X-WR-CALDESC:Events for It Takes a Village Design
REFRESH-INTERVAL;VALUE=DURATION:PT1H
X-Robots-Tag:noindex
X-PUBLISHED-TTL:PT1H
BEGIN:VTIMEZONE
TZID:America/Boise
BEGIN:DAYLIGHT
TZOFFSETFROM:-0700
TZOFFSETTO:-0600
TZNAME:MDT
DTSTART:20220313T090000
END:DAYLIGHT
BEGIN:STANDARD
TZOFFSETFROM:-0600
TZOFFSETTO:-0700
TZNAME:MST
DTSTART:20221106T080000
END:STANDARD
BEGIN:DAYLIGHT
TZOFFSETFROM:-0700
TZOFFSETTO:-0600
TZNAME:MDT
DTSTART:20230312T090000
END:DAYLIGHT
BEGIN:STANDARD
TZOFFSETFROM:-0600
TZOFFSETTO:-0700
TZNAME:MST
DTSTART:20231105T080000
END:STANDARD
BEGIN:DAYLIGHT
TZOFFSETFROM:-0700
TZOFFSETTO:-0600
TZNAME:MDT
DTSTART:20240310T090000
END:DAYLIGHT
BEGIN:STANDARD
TZOFFSETFROM:-0600
TZOFFSETTO:-0700
TZNAME:MST
DTSTART:20241103T080000
END:STANDARD
BEGIN:DAYLIGHT
TZOFFSETFROM:-0700
TZOFFSETTO:-0600
TZNAME:MDT
DTSTART:20250309T090000
END:DAYLIGHT
BEGIN:STANDARD
TZOFFSETFROM:-0600
TZOFFSETTO:-0700
TZNAME:MST
DTSTART:20251102T080000
END:STANDARD
END:VTIMEZONE
BEGIN:VEVENT
DTSTART;TZID=America/Boise:20241109T100000
DTEND;TZID=America/Boise:20241109T120000
DTSTAMP:20260424T101209
CREATED:20240824T164402Z
LAST-MODIFIED:20241020T053442Z
UID:8515-1731146400-1731153600@ittakesavillagedesign.com
SUMMARY:Weston 2nd Super Saturday
DESCRIPTION:Come join all of your favorite friends at a paint party just for you!\nChoose from the Nativity Tiles\, Thankful Tiles\, Tile Display\, or all three.\nTiles measure 4″ x 4″ and finished display measures   . \n*No display is required for tiles. They will lean with support\, but not stand. Cute as part of a tier tray or in a tiny stand\, as well. \n 
URL:https://ittakesavillagedesign.com/event/weston-2nd-super-saturday/
LOCATION:Weston Church\, 27 N. Center St.\, Weston\, ID\, 83286\, United States
CATEGORIES:Craft Class
ATTACH;FMTTYPE=image/jpeg:https://ittakesavillagedesign.com/wp-content/uploads/2024/10/1729400535131.jpg
END:VEVENT
BEGIN:VEVENT
DTSTART;TZID=America/Boise:20230909T180000
DTEND;TZID=America/Boise:20230909T200000
DTSTAMP:20260424T101209
CREATED:20230805T030430Z
LAST-MODIFIED:20230818T013703Z
UID:4714-1694282400-1694289600@ittakesavillagedesign.com
SUMMARY:Halloween Craft Class
DESCRIPTION:Dive into your inner witchy woman with our Halloween class! Chose between 3 projects… \nChunky Boo-12.5″ Shelf Sitter-$12\nIf the Broom Fits\, Ride It-16″ Door Hanger-$28\nWitch’s Brew-Tier Tray Set-$20\nWitch Gnome-10.5″-Standing Shelf Sitter-$20 \nProjects come with DIY Kit\, supplies\, paints\, and added bonus…Every participant receives a free attendance gift\, a treat\, as well as 15-30% off purchases that day! \nCome join us for a goulishly good time!\n(Witch costumes totally optional\, but we’ll have aprons…just sayin’)
URL:https://ittakesavillagedesign.com/event/halloween-craft-class/
LOCATION:199 N. Westside Hwy\, Weston\, ID 83286\, 199 N. Westside Hwy\, Weston\, ID\, 83286\, United States
CATEGORIES:Craft Class
ATTACH;FMTTYPE=image/jpeg:https://ittakesavillagedesign.com/wp-content/uploads/2023/08/20230805_202126.jpg
ORGANIZER;CN="It Takes a Village Design":MAILTO:orders@ittakesavillagedesign.com
END:VEVENT
BEGIN:VEVENT
DTSTART;TZID=America/Boise:20230830T180000
DTEND;TZID=America/Boise:20230830T200000
DTSTAMP:20260424T101209
CREATED:20230805T033138Z
LAST-MODIFIED:20230818T013449Z
UID:4721-1693418400-1693425600@ittakesavillagedesign.com
SUMMARY:Fall in Love with Crafting-Autumn Craft Class & Dinner
DESCRIPTION:Fall crafting at its finest! \nCome join us for a fun night of crafting your fall favorites\, a delicious dinner\, lots of laughs\, and memories made.\nDinner and dessert-$10 plus project \nProject choices include: \nFall Mini Interchangeable Set- $24 (includes one frame)\nWhatever Spices Your Pumpkin Door Hanger-16″-$32\nFall Harvest Tier Tray Set-$20\nSweater Weather Tier Tray Set-$20\nFall Ornament Set\, 3″x 3″-$27
URL:https://ittakesavillagedesign.com/event/fall-in-love-with-crafting-autumn-craft-class-dinner/
LOCATION:199 N. Westside Hwy\, Weston\, ID 83286\, 199 N. Westside Hwy\, Weston\, ID\, 83286\, United States
CATEGORIES:Craft Class
ATTACH;FMTTYPE=image/jpeg:https://ittakesavillagedesign.com/wp-content/uploads/2023/08/Whatever-spices-your-pumpkin.jpg
ORGANIZER;CN="It Takes a Village Design":MAILTO:orders@ittakesavillagedesign.com
END:VEVENT
BEGIN:VEVENT
DTSTART;TZID=America/Boise:20230624T130000
DTEND;TZID=America/Boise:20230624T150000
DTSTAMP:20260424T101209
CREATED:20230504T035215Z
LAST-MODIFIED:20230615T202645Z
UID:4396-1687611600-1687618800@ittakesavillagedesign.com
SUMMARY:Interchangeable Craft Class-Afternoon
DESCRIPTION:Quad square barn door (farmhouse style) monthly interchangeable with 4 tiles included. Choose between Summer and 4th of July tiles. Paint and supplies included. Retail Value $50 \nTechniques covered: hombre shading\, splatter\, alignment\, blending\, distressing\, Posca painting\, detail and embellishment. \nAs always\, purchases or orders made at class are 25% off! \nAfternoon spot\, class size is limited. \n 
URL:https://ittakesavillagedesign.com/event/may-interchangeable-craft-class-afternoon/
LOCATION:199 N. Westside Hwy\, Weston\, ID 83286\, 199 N. Westside Hwy\, Weston\, ID\, 83286\, United States
CATEGORIES:Craft Class
ATTACH;FMTTYPE=image/jpeg:https://ittakesavillagedesign.com/wp-content/uploads/2023/05/2023-05-15-22.41.08-scaled-e1685602916161.jpg
ORGANIZER;CN="It Takes a Village Design":MAILTO:orders@ittakesavillagedesign.com
END:VEVENT
BEGIN:VEVENT
DTSTART;TZID=America/Boise:20230624T100000
DTEND;TZID=America/Boise:20230624T120000
DTSTAMP:20260424T101209
CREATED:20230504T031159Z
LAST-MODIFIED:20230615T202547Z
UID:4390-1687600800-1687608000@ittakesavillagedesign.com
SUMMARY:Interchangeable Craft Class-Morning
DESCRIPTION:Quad square barn door (farmhouse style) monthly interchangeable with 4 tiles included. Choose between Summer and 4th of July tiles. Paint and supplies included. Retail Value $45. \nTechniques covered: hombre shading\, splatter\, alignment\, blending\, distressing\, Posca painting\, detail and embellishment. \nAs always\, purchases or orders made at class are 25% off! \nMorning spot\, class size is limited.
URL:https://ittakesavillagedesign.com/event/may-interchangeable-class/
LOCATION:199 N. Westside Hwy\, Weston\, ID 83286\, 199 N. Westside Hwy\, Weston\, ID\, 83286\, United States
CATEGORIES:Craft Class
ATTACH;FMTTYPE=image/jpeg:https://ittakesavillagedesign.com/wp-content/uploads/2023/05/2023-05-15-22.41.08-scaled-e1685602916161.jpg
ORGANIZER;CN="It Takes a Village Design":MAILTO:orders@ittakesavillagedesign.com
END:VEVENT
END:VCALENDAR